BEGIN:VCALENDAR
VERSION:2.0
PRODID:-//wp-events-plugin.com//7.0.5//EN
TZID:Europe/Berlin
X-WR-TIMEZONE:Europe/Berlin
BEGIN:VEVENT
UID:103@stefan-brosig.de
DTSTART;TZID=Europe/Berlin:20270226T200000
DTEND;TZID=Europe/Berlin:20270226T223000
DTSTAMP:20260423T115924Z
URL:https://stefan-brosig.de/events/die-notendealer-best-of-2027/
SUMMARY:Die NotenDealer – „Best of 2027“
DESCRIPTION:Diese Jungs wissen was sie tun: In dieser musikalischen Comedy-
 Show wird durch Kreativität und Spontanität der Humor für jede Altersgr
 uppe neu erfunden. Weitere Infos unter: www.notendealer.de
ATTACH;FMTTYPE=image/jpeg:https://stefan-brosig.de/wp-content/uploads/2025
 /07/Notendealer.png
CATEGORIES:Die Comedy-Pop-Show
LOCATION:Hotel Klein Olbersdorf\, Ferdinandstraße 105\, 09128 Chemnitz\, D
 eutschland
X-APPLE-STRUCTURED-LOCATION;VALUE=URI;X-ADDRESS=Ferdinandstraße 105\, 0912
 8 Chemnitz\, Deutschland;X-APPLE-RADIUS=100;X-TITLE=Hotel Klein Olbersdorf
 :geo:0,0
END:VEVENT
BEGIN:VTIMEZONE
TZID:Europe/Berlin
X-LIC-LOCATION:Europe/Berlin
BEGIN:STANDARD
DTSTART:20261025T020000
TZOFFSETFROM:+0200
TZOFFSETTO:+0100
TZNAME:CET
END:STANDARD
END:VTIMEZONE
END:VCALENDAR