BEGIN:VCALENDAR
VERSION:2.0
PRODID:-//wp-events-plugin.com//7.0.5//EN
TZID:Europe/Berlin
X-WR-TIMEZONE:Europe/Berlin
BEGIN:VEVENT
UID:95@stefan-brosig.de
DTSTART;TZID=Europe/Berlin:20271113T200000
DTEND;TZID=Europe/Berlin:20271113T223000
DTSTAMP:20260305T113303Z
URL:https://stefan-brosig.de/events/die-notendealer-die-neue-comedy-pop-sh
 ow-8/
SUMMARY:Die NotenDealer – „Die neue Comedy-Pop-Show“
DESCRIPTION:Diese Jungs wissen was sie tun: In dieser musikalischen Comedy-
 Show wird durch Kreativität und Spontanität der Humor für jede Altersgr
 uppe neu erfunden. Weitere Infos unter: www.notendealer.de
ATTACH;FMTTYPE=image/jpeg:https://stefan-brosig.de/wp-content/uploads/2025
 /07/Notendealer.png
CATEGORIES:Die Comedy-Pop-Show
LOCATION:Kulturhaus Freital\, Lutherstr. 2\, 01705 Freital\, Deutschland
X-APPLE-STRUCTURED-LOCATION;VALUE=URI;X-ADDRESS=Lutherstr. 2\, 01705 Freita
 l\, Deutschland;X-APPLE-RADIUS=100;X-TITLE=Kulturhaus Freital:geo:0,0
END:VEVENT
BEGIN:VTIMEZONE
TZID:Europe/Berlin
X-LIC-LOCATION:Europe/Berlin
BEGIN:STANDARD
DTSTART:20271031T020000
TZOFFSETFROM:+0200
TZOFFSETTO:+0100
TZNAME:CET
END:STANDARD
END:VTIMEZONE
END:VCALENDAR