BEGIN:VCALENDAR
VERSION:2.0
PRODID:-//wp-events-plugin.com//7.0.5//EN
TZID:Europe/Berlin
X-WR-TIMEZONE:Europe/Berlin
BEGIN:VEVENT
UID:78@stefan-brosig.de
DTSTART;TZID=Europe/Berlin:20261010T200000
DTEND;TZID=Europe/Berlin:20261010T230000
DTSTAMP:20260113T211003Z
URL:https://stefan-brosig.de/events/die-notendealer-whisky-pur-die-neue-co
 medy-pop-show/
SUMMARY:Die NotenDealer – „Whisky pur“\, die neue Comedy-Pop-Show
DESCRIPTION:Diese Jungs wissen was sie tun: In dieser musikalischen Comedy-
 Show wird durch Kreativität und Spontanität der Humor für jede Altersgr
 uppe neu erfunden... und das mit Whiskyverkostung! Weitere Infos unter: ww
 w.notendealer.de
ATTACH;FMTTYPE=image/jpeg:https://stefan-brosig.de/wp-content/uploads/2025
 /07/Notendealer.png
CATEGORIES:Die besondere Comedy-Pop-Show
LOCATION:H 24 - Dresdner Whisky-Manufaktur\, Magdeburger Str. 58\, 01067 Dr
 esden\, Deutschland
X-APPLE-STRUCTURED-LOCATION;VALUE=URI;X-ADDRESS=Magdeburger Str. 58\, 01067
  Dresden\, Deutschland;X-APPLE-RADIUS=100;X-TITLE=H 24 - Dresdner Whisky-M
 anufaktur:geo:0,0
END:VEVENT
BEGIN:VTIMEZONE
TZID:Europe/Berlin
X-LIC-LOCATION:Europe/Berlin
BEGIN:DAYLIGHT
DTSTART:20260329T030000
TZOFFSETFROM:+0100
TZOFFSETTO:+0200
TZNAME:CEST
END:DAYLIGHT
END:VTIMEZONE
END:VCALENDAR