BEGIN:VCALENDAR
VERSION:2.0
PRODID:-//wp-events-plugin.com//7.0.5//EN
TZID:Europe/Berlin
X-WR-TIMEZONE:Europe/Berlin
BEGIN:VEVENT
UID:8@stefan-brosig.de
DTSTART;TZID=Europe/Berlin:20260601T160000
DTEND;TZID=Europe/Berlin:20260601T170000
DTSTAMP:20260423T113026Z
URL:https://stefan-brosig.de/events/stillstand-ein-stueck-ueber-mobbing-ra
 ssismus-ausgrenzung/
SUMMARY:Stillstand – Ein Stück über Mobbing\, Rassismus\, Ausgrenzung
DESCRIPTION:Ein besonderes Theaterstück zum Nachdenken
ATTACH;FMTTYPE=image/jpeg:https://stefan-brosig.de/wp-content/uploads/2025
 /07/loess.png
CATEGORIES:Vorstellung der Theater-AG des Lögy
LOCATION:Aula Lößnitzgymnasium\, Steinbachstraße 21\, 01445 Radebeul\, D
 eutschland
X-APPLE-STRUCTURED-LOCATION;VALUE=URI;X-ADDRESS=Steinbachstraße 21\, 01445
  Radebeul\, Deutschland;X-APPLE-RADIUS=100;X-TITLE=Aula Lößnitzgymnasium
 :geo:0,0
END:VEVENT
BEGIN:VTIMEZONE
TZID:Europe/Berlin
X-LIC-LOCATION:Europe/Berlin
BEGIN:DAYLIGHT
DTSTART:20260329T030000
TZOFFSETFROM:+0100
TZOFFSETTO:+0200
TZNAME:CEST
END:DAYLIGHT
END:VTIMEZONE
END:VCALENDAR