BEGIN:VCALENDAR
VERSION:2.0
PRODID:-//wp-events-plugin.com//7.0.5//EN
TZID:Europe/Berlin
X-WR-TIMEZONE:Europe/Berlin
BEGIN:VEVENT
UID:57@stefan-brosig.de
DTSTART;TZID=Europe/Berlin:20261220T160000
DTEND;TZID=Europe/Berlin:20261220T164500
DTSTAMP:20250726T121741Z
URL:https://stefan-brosig.de/events/weihnachten-ein-fest-der-freude-im-str
 ess-ein-weihnachtsstueck-von-st-brosig/
SUMMARY:Weihnachten - Ein Fest der Freude im Streß? – Ein Weihnachtsstü
 ck von St. Brosig
DESCRIPTION:Es ist laut. Es ist hektisch. Alle wollen Ruhe. Alle wollen ent
 spannt Weihnachten feiern - passt das alles zusammen? „Die HEIMspieler
 “ - ein Theaterprojekt mit geistig und körperlich beeinträchtigten Men
 schen.
ATTACH;FMTTYPE=image/jpeg:https://stefan-brosig.de/wp-content/uploads/2025
 /07/images.jpg
CATEGORIES:Premiere der Theatergruppe "Die HEIMspieler"
LOCATION:Gemeinschalftliches Wohnen "Haus Mätzold"\, Pniel-Saal\, Ludwig-H
 artmann-Str. 25\, 01277 Dresden\, Deutschland
X-APPLE-STRUCTURED-LOCATION;VALUE=URI;X-ADDRESS=Ludwig-Hartmann-Str. 25\, 0
 1277 Dresden\, Deutschland;X-APPLE-RADIUS=100;X-TITLE=Gemeinschalftliches 
 Wohnen \"Haus Mätzold\"\, Pniel-Saal:geo:0,0
END:VEVENT
BEGIN:VTIMEZONE
TZID:Europe/Berlin
X-LIC-LOCATION:Europe/Berlin
BEGIN:STANDARD
DTSTART:20261025T020000
TZOFFSETFROM:+0200
TZOFFSETTO:+0100
TZNAME:CET
END:STANDARD
END:VTIMEZONE
END:VCALENDAR